Package: CoverageView Version: 1.48.0 Maintainer: Ernesto Lowy MaintainerEmail: ernestolowy at gmail.com git_url: https://git.bioconductor.org/packages/CoverageView git_branch: RELEASE_3_22 git_last_commit: 714038d git_last_commit_date: 2025-10-29 10:19:06 -0500 (Wed, 29 Oct 2025)