Package: CoreGx Version: 2.13.0 Command: /home/biocbuild/bbs-3.22-bioc/R/bin/R CMD build --keep-empty-dirs --no-resave-data --md5 CoreGx StartedAt: 2025-10-24 17:10:08 -0400 (Fri, 24 Oct 2025) EndedAt: 2025-10-24 17:11:06 -0400 (Fri, 24 Oct 2025) EllapsedTime: 58.0 seconds RetCode: 0 Status: OK PackageFile: CoreGx_2.13.0.tar.gz PackageFileSize: 1.369 MiB