Package: CoreGx Version: 2.14.0 Command: /Library/Frameworks/R.framework/Resources/bin/R CMD INSTALL CoreGx StartedAt: 2025-11-10 15:14:47 -0500 (Mon, 10 Nov 2025) EndedAt: 2025-11-10 15:15:02 -0500 (Mon, 10 Nov 2025) EllapsedTime: 15.1 seconds RetCode: 0 Status: OK