Package: CoreGx Version: 2.14.0 Command: /Library/Frameworks/R.framework/Resources/bin/R CMD build --keep-empty-dirs --no-resave-data CoreGx StartedAt: 2025-11-10 16:01:38 -0500 (Mon, 10 Nov 2025) EndedAt: 2025-11-10 16:02:04 -0500 (Mon, 10 Nov 2025) EllapsedTime: 25.3 seconds RetCode: 0 Status: OK PackageFile: CoreGx_2.14.0.tar.gz PackageFileSize: 1.364 MiB