Package: CopyNumberPlots Version: 1.26.0 Command: /Library/Frameworks/R.framework/Resources/bin/R CMD INSTALL CopyNumberPlots StartedAt: 2025-11-10 15:24:10 -0500 (Mon, 10 Nov 2025) EndedAt: 2025-11-10 15:24:29 -0500 (Mon, 10 Nov 2025) EllapsedTime: 19.2 seconds RetCode: 0 Status: OK