Package: CopyNumberPlots Version: 1.26.0 Command: /Library/Frameworks/R.framework/Resources/bin/R CMD build --keep-empty-dirs --no-resave-data CopyNumberPlots StartedAt: 2025-11-10 16:01:24 -0500 (Mon, 10 Nov 2025) EndedAt: 2025-11-10 16:02:03 -0500 (Mon, 10 Nov 2025) EllapsedTime: 38.4 seconds RetCode: 0 Status: OK PackageFile: CopyNumberPlots_1.26.0.tar.gz PackageFileSize: 2.911 MiB