Package: CopyNumberPlots Version: 1.26.0 Command: rm -rf CopyNumberPlots.buildbin-libdir && mkdir CopyNumberPlots.buildbin-libdir && /Users/biocbuild/BBS/utils/build-universal.sh CopyNumberPlots_1.26.0.tar.gz /Library/Frameworks/R.framework/Resources/bin/R CopyNumberPlots.buildbin-libdir StartedAt: 2025-11-10 23:15:59 -0500 (Mon, 10 Nov 2025) EndedAt: 2025-11-10 23:16:19 -0500 (Mon, 10 Nov 2025) EllapsedTime: 20.3 seconds RetCode: 0 Status: OK PackageFile: CopyNumberPlots_1.26.0.tgz PackageFileSize: 3.045 MiB