Package: ConsensusClusterPlus Version: 1.74.0 Command: /Library/Frameworks/R.framework/Resources/bin/R CMD INSTALL ConsensusClusterPlus StartedAt: 2025-11-17 17:12:28 -0500 (Mon, 17 Nov 2025) EndedAt: 2025-11-17 17:12:35 -0500 (Mon, 17 Nov 2025) EllapsedTime: 6.8 seconds RetCode: 0 Status: OK