Package: ConsensusClusterPlus Version: 1.74.0 Command: /Library/Frameworks/R.framework/Resources/bin/R CMD build --keep-empty-dirs --no-resave-data ConsensusClusterPlus StartedAt: 2025-11-17 21:24:11 -0500 (Mon, 17 Nov 2025) EndedAt: 2025-11-17 21:24:37 -0500 (Mon, 17 Nov 2025) EllapsedTime: 26.1 seconds RetCode: 0 Status: OK PackageFile: ConsensusClusterPlus_1.74.0.tar.gz PackageFileSize: 382.5 KiB