Package: ConsensusClusterPlus Version: 1.74.0 Command: rm -rf ConsensusClusterPlus.buildbin-libdir && mkdir ConsensusClusterPlus.buildbin-libdir && /Users/biocbuild/BBS/utils/build-universal.sh ConsensusClusterPlus_1.74.0.tar.gz /Library/Frameworks/R.framework/Resources/bin/R ConsensusClusterPlus.buildbin-libdir StartedAt: 2025-11-18 17:25:24 -0500 (Tue, 18 Nov 2025) EndedAt: 2025-11-18 17:25:32 -0500 (Tue, 18 Nov 2025) EllapsedTime: 8.1 seconds RetCode: 0 Status: OK PackageFile: ConsensusClusterPlus_1.74.0.tgz PackageFileSize: 412.3 KiB