Package: ConsensusClusterPlus Version: 1.73.0 Command: /Library/Frameworks/R.framework/Resources/bin/R CMD INSTALL ConsensusClusterPlus StartedAt: 2025-10-24 15:22:44 -0400 (Fri, 24 Oct 2025) EndedAt: 2025-10-24 15:22:57 -0400 (Fri, 24 Oct 2025) EllapsedTime: 13.7 seconds RetCode: 0 Status: OK