Package: ConsensusClusterPlus Version: 1.73.0 Command: /Library/Frameworks/R.framework/Resources/bin/R CMD INSTALL ConsensusClusterPlus StartedAt: 2025-10-26 15:07:12 -0400 (Sun, 26 Oct 2025) EndedAt: 2025-10-26 15:07:14 -0400 (Sun, 26 Oct 2025) EllapsedTime: 1.8 seconds RetCode: 0 Status: OK