Package: ConsensusClusterPlus Version: 1.73.0 Command: rm -rf ConsensusClusterPlus.buildbin-libdir && mkdir ConsensusClusterPlus.buildbin-libdir && /Users/biocbuild/BBS/utils/build-universal.sh ConsensusClusterPlus_1.73.0.tar.gz /Library/Frameworks/R.framework/Resources/bin/R ConsensusClusterPlus.buildbin-libdir StartedAt: 2025-10-24 22:58:44 -0400 (Fri, 24 Oct 2025) EndedAt: 2025-10-24 22:58:46 -0400 (Fri, 24 Oct 2025) EllapsedTime: 2.1 seconds RetCode: 0 Status: OK PackageFile: ConsensusClusterPlus_1.73.0.tgz PackageFileSize: 412.6 KiB