Package: ConsensusClusterPlus Version: 1.74.0 Command: /Library/Frameworks/R.framework/Resources/bin/R CMD build --keep-empty-dirs --no-resave-data ConsensusClusterPlus StartedAt: 2025-11-17 20:05:03 -0500 (Mon, 17 Nov 2025) EndedAt: 2025-11-17 20:05:09 -0500 (Mon, 17 Nov 2025) EllapsedTime: 6.1 seconds RetCode: 0 Status: OK PackageFile: ConsensusClusterPlus_1.74.0.tar.gz PackageFileSize: 383.1 KiB