Package: CompoundDb Version: 1.14.0 Command: /home/biocbuild/R/R/bin/R CMD INSTALL CompoundDb StartedAt: 2025-11-17 21:42:55 -0000 (Mon, 17 Nov 2025) EndedAt: 2025-11-17 21:43:24 -0000 (Mon, 17 Nov 2025) EllapsedTime: 28.9 seconds RetCode: 0 Status: OK