Package: CompoundDb Version: 1.14.0 Command: /home/biocbuild/R/R/bin/R CMD build --keep-empty-dirs --no-resave-data CompoundDb StartedAt: 2025-11-18 00:40:48 -0000 (Tue, 18 Nov 2025) EndedAt: 2025-11-18 00:41:37 -0000 (Tue, 18 Nov 2025) EllapsedTime: 49.0 seconds RetCode: 0 Status: OK PackageFile: CompoundDb_1.14.0.tar.gz PackageFileSize: 1.431 MiB