Package: CompoundDb Version: 1.14.0 Maintainer: Johannes Rainer MaintainerEmail: johannes.rainer at eurac.edu git_url: https://git.bioconductor.org/packages/CompoundDb git_branch: RELEASE_3_22 git_last_commit: 287093d git_last_commit_date: 2025-10-29 11:14:42 -0400 (Wed, 29 Oct 2025)