Package: ComPrAn Version: 1.18.0 Command: /home/biocbuild/bbs-3.22-bioc/R/bin/R CMD INSTALL ComPrAn StartedAt: 2025-10-30 15:09:29 -0400 (Thu, 30 Oct 2025) EndedAt: 2025-10-30 15:09:41 -0400 (Thu, 30 Oct 2025) EllapsedTime: 12.0 seconds RetCode: 0 Status: OK