Package: ComPrAn Version: 1.18.0 Command: /home/biocbuild/bbs-3.22-bioc/R/bin/R CMD build --keep-empty-dirs --no-resave-data --md5 ComPrAn StartedAt: 2025-10-30 16:58:53 -0400 (Thu, 30 Oct 2025) EndedAt: 2025-10-30 16:59:16 -0400 (Thu, 30 Oct 2025) EllapsedTime: 23.0 seconds RetCode: 0 Status: OK PackageFile: ComPrAn_1.18.0.tar.gz PackageFileSize: 3.28 MiB