Package: CoCiteStats Version: 1.82.0 Command: /home/biocbuild/bbs-3.22-bioc/R/bin/R CMD INSTALL CoCiteStats StartedAt: 2025-11-06 15:38:01 -0500 (Thu, 06 Nov 2025) EndedAt: 2025-11-06 15:38:14 -0500 (Thu, 06 Nov 2025) EllapsedTime: 13.3 seconds RetCode: 0 Status: OK