Package: CoCiteStats Version: 1.82.0 Command: /home/biocbuild/bbs-3.22-bioc/R/bin/R CMD build --keep-empty-dirs --no-resave-data --md5 CoCiteStats StartedAt: 2025-11-06 16:56:34 -0500 (Thu, 06 Nov 2025) EndedAt: 2025-11-06 16:56:35 -0500 (Thu, 06 Nov 2025) EllapsedTime: 1.0 seconds RetCode: 0 Status: OK PackageFile: CoCiteStats_1.82.0.tar.gz PackageFileSize: 5.826 KiB