Package: ClusterSignificance Version: 1.37.0 Command: /home/biocbuild/bbs-3.22-bioc/R/bin/R CMD INSTALL ClusterSignificance StartedAt: 2025-10-24 15:16:14 -0400 (Fri, 24 Oct 2025) EndedAt: 2025-10-24 15:16:26 -0400 (Fri, 24 Oct 2025) EllapsedTime: 11.8 seconds RetCode: 0 Status: OK