Package: ClusterSignificance Version: 1.38.0 Command: /Library/Frameworks/R.framework/Resources/bin/R CMD INSTALL ClusterSignificance StartedAt: 2025-11-10 15:03:20 -0500 (Mon, 10 Nov 2025) EndedAt: 2025-11-10 15:03:27 -0500 (Mon, 10 Nov 2025) EllapsedTime: 6.2 seconds RetCode: 0 Status: OK