Package: ClustIRR Version: 1.8.0 Command: rm -rf ClustIRR.buildbin-libdir && mkdir ClustIRR.buildbin-libdir && /Users/biocbuild/BBS/utils/build-universal.sh ClustIRR_1.8.0.tar.gz /Library/Frameworks/R.framework/Resources/bin/R ClustIRR.buildbin-libdir StartedAt: 2025-11-10 23:15:19 -0500 (Mon, 10 Nov 2025) EndedAt: 2025-11-10 23:16:14 -0500 (Mon, 10 Nov 2025) EllapsedTime: 55.0 seconds RetCode: 0 Status: OK PackageFile: ClustIRR_1.8.0.tgz PackageFileSize: 3.788 MiB