Package: ClustAll Version: 1.6.0 Command: /home/biocbuild/bbs-3.22-bioc/R/bin/R CMD INSTALL ClustAll StartedAt: 2025-11-14 16:03:47 -0500 (Fri, 14 Nov 2025) EndedAt: 2025-11-14 16:04:10 -0500 (Fri, 14 Nov 2025) EllapsedTime: 23.3 seconds RetCode: 0 Status: OK