Package: ClassifyR Version: 3.13.8 Command: /home/biocbuild/R/R/bin/R CMD INSTALL ClassifyR StartedAt: 2025-10-23 20:48:40 -0000 (Thu, 23 Oct 2025) EndedAt: 2025-10-23 20:49:27 -0000 (Thu, 23 Oct 2025) EllapsedTime: 46.9 seconds RetCode: 0 Status: OK