Package: ClassifyR Version: 3.13.8 Command: /home/biocbuild/R/R/bin/R CMD build --keep-empty-dirs --no-resave-data ClassifyR StartedAt: 2025-10-20 22:44:09 -0000 (Mon, 20 Oct 2025) EndedAt: 2025-10-20 22:47:04 -0000 (Mon, 20 Oct 2025) EllapsedTime: 174.8 seconds RetCode: 0 Status: OK PackageFile: ClassifyR_3.13.8.tar.gz PackageFileSize: 2.076 MiB