Package: ClassifyR Version: 3.13.8 Command: /Library/Frameworks/R.framework/Resources/bin/R CMD INSTALL ClassifyR StartedAt: 2025-10-24 15:34:53 -0400 (Fri, 24 Oct 2025) EndedAt: 2025-10-24 15:35:43 -0400 (Fri, 24 Oct 2025) EllapsedTime: 49.5 seconds RetCode: 0 Status: OK