Package: CircSeqAlignTk Version: 1.11.2 Command: /home/biocbuild/bbs-3.22-bioc/R/bin/R CMD INSTALL CircSeqAlignTk StartedAt: 2025-10-27 15:54:37 -0400 (Mon, 27 Oct 2025) EndedAt: 2025-10-27 15:55:23 -0400 (Mon, 27 Oct 2025) EllapsedTime: 45.6 seconds RetCode: 0 Status: OK