Package: Chromatograms Version: 1.0.0 Command: /home/biocbuild/bbs-3.22-bioc/R/bin/R CMD INSTALL Chromatograms StartedAt: 2025-11-20 16:05:00 -0500 (Thu, 20 Nov 2025) EndedAt: 2025-11-20 16:05:13 -0500 (Thu, 20 Nov 2025) EllapsedTime: 13.0 seconds RetCode: 0 Status: OK