Package: ChromSCape Version: 1.19.1 Command: /home/biocbuild/bbs-3.22-bioc/R/bin/R CMD INSTALL ChromSCape StartedAt: 2025-10-24 16:04:45 -0400 (Fri, 24 Oct 2025) EndedAt: 2025-10-24 16:05:39 -0400 (Fri, 24 Oct 2025) EllapsedTime: 53.1 seconds RetCode: 0 Status: OK