Package: ChromHeatMap Version: 1.64.0 Command: /Library/Frameworks/R.framework/Resources/bin/R CMD INSTALL ChromHeatMap StartedAt: 2025-11-03 15:34:45 -0500 (Mon, 03 Nov 2025) EndedAt: 2025-11-03 15:35:32 -0500 (Mon, 03 Nov 2025) EllapsedTime: 46.3 seconds RetCode: 0 Status: OK