Package: ChromHeatMap Version: 1.64.0 Command: /Library/Frameworks/R.framework/Resources/bin/R CMD build --keep-empty-dirs --no-resave-data ChromHeatMap StartedAt: 2025-11-03 16:28:03 -0500 (Mon, 03 Nov 2025) EndedAt: 2025-11-03 16:29:03 -0500 (Mon, 03 Nov 2025) EllapsedTime: 59.4 seconds RetCode: 0 Status: OK PackageFile: ChromHeatMap_1.64.0.tar.gz PackageFileSize: 317.5 KiB