Package: ChromHeatMap Version: 1.64.0 Command: rm -rf ChromHeatMap.buildbin-libdir && mkdir ChromHeatMap.buildbin-libdir && /Users/biocbuild/BBS/utils/build-universal.sh ChromHeatMap_1.64.0.tar.gz /Library/Frameworks/R.framework/Resources/bin/R ChromHeatMap.buildbin-libdir StartedAt: 2025-11-04 01:32:30 -0500 (Tue, 04 Nov 2025) EndedAt: 2025-11-04 01:33:20 -0500 (Tue, 04 Nov 2025) EllapsedTime: 49.6 seconds RetCode: 0 Status: OK PackageFile: ChromHeatMap_1.64.0.tgz PackageFileSize: 674.4 KiB