Package: ChromHeatMap Version: 1.63.0 Command: rm -rf ChromHeatMap.buildbin-libdir && mkdir ChromHeatMap.buildbin-libdir && /Users/biocbuild/BBS/utils/build-universal.sh ChromHeatMap_1.63.0.tar.gz /Library/Frameworks/R.framework/Resources/bin/R ChromHeatMap.buildbin-libdir StartedAt: 2025-10-24 22:57:40 -0400 (Fri, 24 Oct 2025) EndedAt: 2025-10-24 22:57:55 -0400 (Fri, 24 Oct 2025) EllapsedTime: 15.4 seconds RetCode: 0 Status: OK PackageFile: ChromHeatMap_1.63.0.tgz PackageFileSize: 676.8 KiB