Package: ChemmineR Version: 3.62.0 Command: /home/biocbuild/bbs-3.22-bioc/R/bin/R CMD INSTALL ChemmineR StartedAt: 2025-10-30 15:11:27 -0400 (Thu, 30 Oct 2025) EndedAt: 2025-10-30 15:11:53 -0400 (Thu, 30 Oct 2025) EllapsedTime: 25.7 seconds RetCode: 0 Status: OK