Package: ChemmineR Version: 3.62.0 Command: /home/biocbuild/bbs-3.22-bioc/R/bin/R CMD build --keep-empty-dirs --no-resave-data --md5 ChemmineR StartedAt: 2025-10-30 16:47:43 -0400 (Thu, 30 Oct 2025) EndedAt: 2025-10-30 16:48:36 -0400 (Thu, 30 Oct 2025) EllapsedTime: 53.1 seconds RetCode: 0 Status: OK PackageFile: ChemmineR_3.62.0.tar.gz PackageFileSize: 2.106 MiB