Package: ChemmineOB Version: 1.48.0 Command: /home/biocbuild/bbs-3.22-bioc/R/bin/R CMD INSTALL ChemmineOB StartedAt: 2025-11-17 17:11:03 -0500 (Mon, 17 Nov 2025) EndedAt: 2025-11-17 17:12:50 -0500 (Mon, 17 Nov 2025) EllapsedTime: 107.1 seconds RetCode: 0 Status: OK