Package: ChemmineOB Version: 1.48.0 Command: /home/biocbuild/bbs-3.22-bioc/R/bin/R CMD build --keep-empty-dirs --no-resave-data --md5 ChemmineOB StartedAt: 2025-11-17 20:05:04 -0500 (Mon, 17 Nov 2025) EndedAt: 2025-11-17 20:07:04 -0500 (Mon, 17 Nov 2025) EllapsedTime: 119.2 seconds RetCode: 0 Status: OK PackageFile: ChemmineOB_1.48.0.tar.gz PackageFileSize: 1.305 MiB