Package: ChIPsim Version: 1.64.0 Command: /Library/Frameworks/R.framework/Resources/bin/R CMD INSTALL ChIPsim StartedAt: 2025-11-10 15:27:30 -0500 (Mon, 10 Nov 2025) EndedAt: 2025-11-10 15:27:41 -0500 (Mon, 10 Nov 2025) EllapsedTime: 11.6 seconds RetCode: 0 Status: OK