Package: ChIPsim Version: 1.64.0 Command: /Library/Frameworks/R.framework/Resources/bin/R CMD build --keep-empty-dirs --no-resave-data ChIPsim StartedAt: 2025-11-10 15:55:25 -0500 (Mon, 10 Nov 2025) EndedAt: 2025-11-10 15:55:51 -0500 (Mon, 10 Nov 2025) EllapsedTime: 26.3 seconds RetCode: 0 Status: OK PackageFile: ChIPsim_1.64.0.tar.gz PackageFileSize: 647.9 KiB