Package: ChIPseqR Version: 1.63.0 Command: /home/biocbuild/bbs-3.22-bioc/R/bin/R CMD build --keep-empty-dirs --no-resave-data --md5 ChIPseqR StartedAt: 2025-10-24 16:58:42 -0400 (Fri, 24 Oct 2025) EndedAt: 2025-10-24 16:59:55 -0400 (Fri, 24 Oct 2025) EllapsedTime: 73.1 seconds RetCode: 0 Status: OK PackageFile: ChIPseqR_1.63.0.tar.gz PackageFileSize: 730.8 KiB