Package: ChIPexoQual Version: 1.34.0 Command: /home/biocbuild/bbs-3.22-bioc/R/bin/R CMD INSTALL ChIPexoQual StartedAt: 2025-11-06 15:42:43 -0500 (Thu, 06 Nov 2025) EndedAt: 2025-11-06 15:43:34 -0500 (Thu, 06 Nov 2025) EllapsedTime: 50.8 seconds RetCode: 0 Status: OK