Package: ChIPXpress Version: 1.53.0 Command: /home/biocbuild/bbs-3.22-bioc/R/bin/R CMD INSTALL ChIPXpress StartedAt: 2025-10-24 16:11:58 -0400 (Fri, 24 Oct 2025) EndedAt: 2025-10-24 16:12:28 -0400 (Fri, 24 Oct 2025) EllapsedTime: 29.4 seconds RetCode: 0 Status: OK