Package: ChIPQC Version: 1.46.0 Command: /home/biocbuild/bbs-3.22-bioc/R/bin/R CMD INSTALL ChIPQC StartedAt: 2025-11-14 16:10:42 -0500 (Fri, 14 Nov 2025) EndedAt: 2025-11-14 16:10:42 -0500 (Fri, 14 Nov 2025) EllapsedTime: 0.2 seconds RetCode: 1 Status: ERROR