Package: ChIPComp Version: 1.39.1 Command: /home/biocbuild/bbs-3.22-bioc/R/bin/R CMD INSTALL ChIPComp StartedAt: 2025-10-27 15:38:32 -0400 (Mon, 27 Oct 2025) EndedAt: 2025-10-27 15:39:02 -0400 (Mon, 27 Oct 2025) EllapsedTime: 30.8 seconds RetCode: 0 Status: OK