Package: ChIPComp Version: 1.40.0 Command: /Library/Frameworks/R.framework/Resources/bin/R CMD INSTALL ChIPComp StartedAt: 2025-11-03 15:38:26 -0500 (Mon, 03 Nov 2025) EndedAt: 2025-11-03 15:39:08 -0500 (Mon, 03 Nov 2025) EllapsedTime: 42.0 seconds RetCode: 0 Status: OK