Package: ChIPComp Version: 1.40.0 Command: rm -rf ChIPComp.buildbin-libdir && mkdir ChIPComp.buildbin-libdir && /Users/biocbuild/BBS/utils/build-universal.sh ChIPComp_1.40.0.tar.gz /Library/Frameworks/R.framework/Resources/bin/R ChIPComp.buildbin-libdir StartedAt: 2025-11-04 01:32:14 -0500 (Tue, 04 Nov 2025) EndedAt: 2025-11-04 01:33:00 -0500 (Tue, 04 Nov 2025) EllapsedTime: 46.0 seconds RetCode: 0 Status: OK PackageFile: ChIPComp_1.40.0.tgz PackageFileSize: 638.3 KiB