Package: ChIPComp Version: 1.40.0 Command: /Library/Frameworks/R.framework/Resources/bin/R CMD INSTALL ChIPComp StartedAt: 2025-11-03 15:19:11 -0500 (Mon, 03 Nov 2025) EndedAt: 2025-11-03 15:19:24 -0500 (Mon, 03 Nov 2025) EllapsedTime: 12.9 seconds RetCode: 0 Status: OK