Package: ChIPComp Version: 1.40.0 Command: /Library/Frameworks/R.framework/Resources/bin/R CMD build --keep-empty-dirs --no-resave-data ChIPComp StartedAt: 2025-10-31 15:58:54 -0400 (Fri, 31 Oct 2025) EndedAt: 2025-10-31 15:59:18 -0400 (Fri, 31 Oct 2025) EllapsedTime: 24.3 seconds RetCode: 0 Status: OK PackageFile: ChIPComp_1.40.0.tar.gz PackageFileSize: 596.3 KiB